BEGIN:VCALENDAR
VERSION:2.0
PRODID:-//תזמורת האופרה הקאמרית הישראלית - ECPv5.9.2//NONSGML v1.0//EN
CALSCALE:GREGORIAN
METHOD:PUBLISH
X-WR-CALNAME:תזמורת האופרה הקאמרית הישראלית
X-ORIGINAL-URL:https://icoo.co.il
X-WR-CALDESC:אירועים ל תזמורת האופרה הקאמרית הישראלית
BEGIN:VTIMEZONE
TZID:Asia/Jerusalem
BEGIN:DAYLIGHT
TZOFFSETFROM:+0200
TZOFFSETTO:+0300
TZNAME:IDT
DTSTART:20210326T000000
END:DAYLIGHT
BEGIN:STANDARD
TZOFFSETFROM:+0300
TZOFFSETTO:+0200
TZNAME:IST
DTSTART:20211030T230000
END:STANDARD
END:VTIMEZONE
BEGIN:VEVENT
DTSTART;TZID=Asia/Jerusalem:20210713T103000
DTEND;TZID=Asia/Jerusalem:20210713T103000
DTSTAMP:20211024T081643
CREATED:20210608T071643Z
LAST-MODIFIED:20210708T055247Z
UID:3254-1626172200-1626172200@icoo.co.il
SUMMARY:קונצרט קלאסי במועדון "הפיס" לגיל הזהב
DESCRIPTION:מסע ההופעות חינמיות מיוחדות בתוך מועדוני גיל הזהב בעיר אשדוד לדיירים הוותיקים שנפגעו רבות מתקופת הקורונה. \nתזמורת האופרה הקאמרית הישראלית שמחה להחזיר להם את חדוות החיים ולשמח אותם בקונצרטים קלאסים בניצוחם של מאסטרו ואג פפיאן וטיראן ניקוגוסיאן\n\n-הקונצרט מתקיים במסגרת תרומה לקהילה ואינו פתוח לקהל הרחב
URL:https://icoo.co.il/event/%d7%a7%d7%95%d7%a0%d7%a6%d7%a8%d7%98-%d7%a7%d7%9c%d7%90%d7%a1%d7%99-%d7%91%d7%9e%d7%95%d7%a2%d7%93%d7%95%d7%9f-%d7%9c%d7%92%d7%99%d7%9c-%d7%94%d7%96%d7%94%d7%91-%d7%94%d7%a8%d7%99-%d7%92%d7%95%d7%9c/
LOCATION:מועדון הרי גולן\, הרי גולן 8\, אשדוד
CATEGORIES:תרומה לקהילה
ATTACH;FMTTYPE=image/jpeg:https://icoo.co.il/wp-content/uploads/2017/08/AshSymph-186.jpg
END:VEVENT
BEGIN:VEVENT
DTSTART;TZID=Asia/Jerusalem:20210712T101500
DTEND;TZID=Asia/Jerusalem:20210712T101500
DTSTAMP:20211024T081643
CREATED:20210608T071532Z
LAST-MODIFIED:20210707T113501Z
UID:3251-1626084900-1626084900@icoo.co.il
SUMMARY:קונצרט קלאסי במועדון "הפיס" לגיל הזהב
DESCRIPTION:מסע ההופעות חינמיות מיוחדות בתוך מועדוני גיל הזהב בעיר אשדוד לדיירים הוותיקים שנפגעו רבות מתקופת הקורונה. \nתזמורת האופרה הקאמרית הישראלית שמחה להחזיר להם את חדוות החיים ולשמח אותם בקונצרטים קלאסים בניצוחם של מאסטרו ואג פפיאן וטיראן ניקוגוסיאן\n\n-הקונצרט מתקיים במסגרת תרומה לקהילה ואינו פתוח לקהל הרחב
URL:https://icoo.co.il/event/%d7%a7%d7%95%d7%a0%d7%a6%d7%a8%d7%98-%d7%a7%d7%9c%d7%90%d7%a1%d7%99-%d7%91%d7%9e%d7%95%d7%a2%d7%93%d7%95%d7%9f-%d7%91%d7%99%d7%aa-%d7%90%d7%91%d7%99%d7%91-%d7%9c%d7%92%d7%99%d7%9c-%d7%94%d7%96%d7%94/
LOCATION:מועדון הפיס\, הרי גולן 8\, אשדוד
CATEGORIES:תרומה לקהילה
ATTACH;FMTTYPE=image/jpeg:https://icoo.co.il/wp-content/uploads/2017/05/AshSymph-15.jpg
END:VEVENT
END:VCALENDAR